BEGIN:VCALENDAR
VERSION:2.0
PRODID:-//RingGangRadio - ECPv4.9.14//NONSGML v1.0//EN
CALSCALE:GREGORIAN
METHOD:PUBLISH
X-WR-CALNAME:RingGangRadio
X-ORIGINAL-URL:http://ringgangradio.com
X-WR-CALDESC:Events for RingGangRadio
BEGIN:VTIMEZONE
TZID:America/New_York
BEGIN:DAYLIGHT
TZOFFSETFROM:-0500
TZOFFSETTO:-0400
TZNAME:EDT
DTSTART:20140309T070000
END:DAYLIGHT
BEGIN:STANDARD
TZOFFSETFROM:-0400
TZOFFSETTO:-0500
TZNAME:EST
DTSTART:20141102T060000
END:STANDARD
END:VTIMEZONE
BEGIN:VEVENT
DTSTART;TZID=America/New_York:20141210T071500
DTEND;TZID=America/New_York:20141210T091500
DTSTAMP:20260419T173836
CREATED:20160820T044744Z
LAST-MODIFIED:20160820T044744Z
UID:3080-1418195700-1418202900@ringgangradio.com
SUMMARY:Farrell & Johnson Office Equip
DESCRIPTION:Just get us on the ground! That part will happen pretty definitely! I swear by my pretty floral bonnet\, I will end you. I cannot abide useless people. Oh\, I think you might wanna reconsider that last part. See\, I married me a powerful ugly creature. First rule of battle\, little one … don’t ever let them know where you are… WHOO-HOO! I’M RIGHT HERE! I’M RIGHT HERE! YOU WANT SOME O’ ME?! YEAH YOU DO! COME ON! COME ON! AAAAAH! Whoo-hoo! … ‘Course\, there’re other schools of thought. Psychic\, though? That sounds like something out of science fiction. We live in a spaceship\, dear. Every man there go back inside or we will blow a new crater in this little moon. Am I a lion? I don’t think of myself as a lion. You might as well\, though\, I have a mighty roar.\nI’ve been under fire before. Well … I’ve been in a fire. Actually\, I was fired. I can handle myself. Someone ever tries to kill you\, you try to kill ’em right back! Am I a lion? I don’t think of myself as a lion. You might as well\, though\, I have a mighty roar. You know what the chain of command is? It’s the chain I go get and beat you with until you understand who’s in ruttin charge here. First rule of battle\, little one … don’t ever let them know where you are… WHOO-HOO! I’M RIGHT HERE! I’M RIGHT HERE! YOU WANT SOME O’ ME?! YEAH YOU DO! COME ON! COME ON! AAAAAH! Whoo-hoo! … ‘Course\, there’re other schools of thought. How did your brain even learn human speech? Man walks down the street in a hat like that\, you know he’s not afraid of anything. Yes sir\, Captain Tightpants!  \n
URL:http://ringgangradio.com/event/farrell-johnson-office-equip-2/
CATEGORIES:Body Builder
ATTACH;FMTTYPE=image/jpeg:http://ringgangradio.com/wp-content/uploads/2014/10/fitness-756303.jpg
END:VEVENT
END:VCALENDAR